BEGIN:VCALENDAR
VERSION:2.0
PRODID:-//Plone.org//NONSGML plone.app.event//EN
X-WR-TIMEZONE:Europe/Berlin
BEGIN:VEVENT
SUMMARY:Chaos Communication Camp 2019
DTSTART;VALUE=DATE:20190821
DTEND;VALUE=DATE:20190826
DTSTAMP;VALUE=DATE-TIME:20260425T202038Z
UID:0ee91da9a9534046a18b7c98c87812c9@localhost:8090
CATEGORIES:CCC,Camp
CONTACT:https://events.ccc.de
CREATED;VALUE=DATE-TIME:20190114T122503Z
LAST-MODIFIED;VALUE=DATE-TIME:20190114T122509Z
URL:https://web.nerd2nerd.org/events/chaos-communication-camp-2019
END:VEVENT
END:VCALENDAR
