BEGIN:VCALENDAR
VERSION:2.0
PRODID:-//Plone.org//NONSGML plone.app.event//EN
X-WR-TIMEZONE:Europe/Berlin
BEGIN:VEVENT
SUMMARY:CmS Barcamp
DTSTART;TZID=Europe/Berlin;VALUE=DATE-TIME:20171108T140000
DTEND;TZID=Europe/Berlin;VALUE=DATE-TIME:20171108T160000
DTSTAMP;VALUE=DATE-TIME:20260425T184417Z
UID:165ec02b33cc4e15997241246922d82f@localhost:8090
CATEGORIES:CmS,Chaos macht Schule,Barcamp,Medienscouts
CREATED;VALUE=DATE-TIME:20170925T130838Z
LAST-MODIFIED;VALUE=DATE-TIME:20170925T131710Z
LOCATION:Stadtbücherei Würzburg
URL:https://web.nerd2nerd.org/events/cms-barcamp
END:VEVENT
BEGIN:VTIMEZONE
TZID:Europe/Berlin
X-LIC-LOCATION:Europe/Berlin
BEGIN:STANDARD
DTSTART;VALUE=DATE-TIME:20171029T020000
TZNAME:CET
TZOFFSETFROM:+0200
TZOFFSETTO:+0100
END:STANDARD
END:VTIMEZONE
END:VCALENDAR
