BEGIN:VCALENDAR
VERSION:2.0
PRODID:-//Plone.org//NONSGML plone.app.event//EN
X-WR-TIMEZONE:Europe/Berlin
BEGIN:VEVENT
SUMMARY:Datenspuren 2018
DTSTART;VALUE=DATE:20180922
DTEND;VALUE=DATE:20180924
DTSTAMP;VALUE=DATE-TIME:20260425T202039Z
UID:2f575e65912b4106a680bae989215188@localhost:8090
CATEGORIES:CCC
CONTACT:https://www.datenspuren.de/2018/
CREATED;VALUE=DATE-TIME:20180803T122944Z
LAST-MODIFIED;VALUE=DATE-TIME:20180803T122955Z
LOCATION:Dresden
URL:https://web.nerd2nerd.org/events/datenspuren-2018
END:VEVENT
END:VCALENDAR
