BEGIN:VCALENDAR
VERSION:2.0
PRODID:-//Plone.org//NONSGML plone.app.event//EN
X-WR-TIMEZONE:Europe/Berlin
BEGIN:VEVENT
SUMMARY:Offener Maker- und Hackerspace
DTSTART;TZID=Europe/Berlin;VALUE=DATE-TIME:20221022T140000
DTEND;TZID=Europe/Berlin;VALUE=DATE-TIME:20221022T180000
DTSTAMP;VALUE=DATE-TIME:20260425T152447Z
UID:fb61531cb73947a7b1fbc9c3f5b760e4@localhost:8090
CATEGORIES:Würzburger Web Week,N2N,FabLab
CONTACT:https://fablab-wuerzburg.de
CREATED;VALUE=DATE-TIME:20220920T075912Z
LAST-MODIFIED;VALUE=DATE-TIME:20220920T084435Z
LOCATION:FabLab Würzburg
URL:https://web.nerd2nerd.org/events/offener-maker-und-hackerspace
END:VEVENT
BEGIN:VTIMEZONE
TZID:Europe/Berlin
X-LIC-LOCATION:Europe/Berlin
BEGIN:DAYLIGHT
DTSTART;VALUE=DATE-TIME:20220327T030000
TZNAME:CEST
TZOFFSETFROM:+0100
TZOFFSETTO:+0200
END:DAYLIGHT
END:VTIMEZONE
END:VCALENDAR
